BEGIN:VCALENDAR
VERSION:2.0
CALSCALE:GREGORIAN
PRODID:-//MyApp//Calendar 1.0//EN
BEGIN:VEVENT
METHOD:PUBLISH
UID:34475@regionalniportaly.cz
DTSTAMP:20260422T003854Z
DTSTART;VALUE=DATE:20230915
DTEND;VALUE=DATE:20230916
SUMMARY:Nemalý pátek - Mosskin a Chris Beach
DESCRIPTION:Mosskin (US/CZ/SK) je alternativní jazz-folková brněnská skupina\, která hraje své vlastní písně.\nMůžete se těšit i na swingové rytmy. Písně z alba Time Left Behind (2015) zazněly na rádiu Vltava a Proglas.\nChris Coleman − zpěv\, kytara\, doprovod\, Tereza Rajnochová - zpěv\, cajón a jiné perkuse\, Juraj Markuš − sólová kytara\, Roman Fiala − kontrabas\nChris Beach (SWE) je plodný projekt hrající funky švédský folk. Christoffer Strandh je sice Švéd\, ale na české hudební scéně se pohybuje zhruba deset let.\nVstupné 150\,- Kč\, studenti a senioři 100\,- Kč.\n 
LOCATION:Hustopeče
END:VEVENT
END:VCALENDAR