BEGIN:VCALENDAR
VERSION:2.0
CALSCALE:GREGORIAN
PRODID:-//MyApp//Calendar 1.0//EN
BEGIN:VEVENT
METHOD:PUBLISH
UID:34462@regionalniportaly.cz
DTSTAMP:20260422T000549Z
DTSTART;VALUE=DATE:20230902
DTEND;VALUE=DATE:20230903
SUMMARY:Otevřené sklepy Nosislav 2023
DESCRIPTION:Zveme vás na 11. ročník Otevřených sklepů v Nosislavi! Všechno to začne 2.9. ve 12 hodin!Ochutnáte víno  i burčák od místních vinařů\, zažijete neopakovatelnou atmosféru malé vinařské obce\, cimbálku \, grilování   a hlavně to víno! Místní mužáci a nebo večerní degustace s vinařem přímo ve sklepě. To všechno jsou otevřené sklepy Nosislav!Sklepy jsou hlavně o atmosféře\, vínu\, hudbě a jídlu\, i tak jsme si pro Vás připravili doprovodný program. Po obci budou chodit místní Mužáci od sklepa ke sklepu a nebo historický průvod místních ochotníků s divadelním vystoupením  . Kdo bude chtít sedět ve sklepě i po 20 hodině večer\, doporučujeme si udělat rezervaci. Lístky budou k prodeji na místě nebo v předprodeji zde:https://tickets.nfctron.com/.../otevrene-sklepy-v.../cart Prodej vstupenek a výdej předplacených bude v předsálí Kulturního centra od 11 hodin. Skvělá jídla si můžete dát u Válků přímo od Válků nebo ve vinařství Šimberky od @DolcePassioneCZ .  Cimbálka Lália bude hrát ve Vinařství Šimberky nebo u Válků cimbálka Donava! Vína\, na která v žádném obchodě jen tak nenarazíte ochutnáte od mikro a malých vinařů.\nDoprava:Autobusové zastávky IDS jsou v Nosislavi 3\, doporučujeme vystoupit na zastávce Městečko. Výdej balíčků z předprodeje bude u Kulturního domu.V neděli 3.9. pokračuje v Nosislavi Vinobraní pod hradbami\, s kulturním programem.V neděli dopoledne je možno zakoupit vína ve sklepech od 10 do 12 hodin\, nebo po domluvě s vinařem i jinak.
LOCATION:Nosislav
END:VEVENT
END:VCALENDAR