BEGIN:VCALENDAR
VERSION:2.0
CALSCALE:GREGORIAN
PRODID:-//MyApp//Calendar 1.0//EN
BEGIN:VEVENT
METHOD:PUBLISH
UID:34117@regionalniportaly.cz
DTSTAMP:20260422T004100Z
DTSTART;VALUE=DATE:20230907
DTEND;VALUE=DATE:20230908
SUMMARY:LiStOVáNí Lukáše Hejlíka - Vaříme z vody (U nás v Evropě)
DESCRIPTION:Cooking show Vaříme z vody - LiStOVáNí z knihy U nás v Evropě v Kinokavárně U babičky Hanky. \nPo téměř deseti letech se projekt LiStOVáNí vrací na své věrné scény s cooking show U nás v Evropě\, knihou která vychází ze stejnojmenného televizního pořadu. V průběhu večera navštívíte s modrožlutým moderátorem Lukášem Hejlíkem země Evropské unie\, seznámíte se s vybranými deseti evropskými tatínky\, které ztvární Alan Novotný. Společně uvaříme hutný euroguláš\, těšte se na velkou divadelní kuchařskou show!\n \nVstupné 150\,- Kč. 
LOCATION:Hustopeče
END:VEVENT
END:VCALENDAR