BEGIN:VCALENDAR
VERSION:2.0
CALSCALE:GREGORIAN
PRODID:-//MyApp//Calendar 1.0//EN
BEGIN:VEVENT
METHOD:PUBLISH
UID:34105@regionalniportaly.cz
DTSTAMP:20260422T000451Z
DTSTART;VALUE=DATE:20230813
DTEND;VALUE=DATE:20230814
SUMMARY:Šťovík\, pečené brambory
DESCRIPTION:Hustopečský divadelní soubor Foor zve na trpkou komedie o dvou dějstvích a dvou poločasech\, nejen o fotbale. Tři rozdílní fotbaloví rozhodčí se spolčují i vzájemně soupeří v kabině před\, během a po jednom rozhodujícím utkání podzimního kola extraligy...\nTentokrát na letní scéně pod ořechem\, v areálu M-klubu\, Herbenova ulice od 18 hodin.\nVstupné 150\,- Kč\, studenti a senioři 100\,- Kč.
LOCATION:Hustopeče
END:VEVENT
END:VCALENDAR