BEGIN:VCALENDAR
VERSION:2.0
CALSCALE:GREGORIAN
PRODID:-//MyApp//Calendar 1.0//EN
BEGIN:VEVENT
METHOD:PUBLISH
UID:34104@regionalniportaly.cz
DTSTAMP:20260422T000711Z
DTSTART;VALUE=DATE:20230811
DTEND;VALUE=DATE:20230812
SUMMARY:Nemalý pátek - Víťův brácha
DESCRIPTION:V pátek 11. srpna se můžete od 19.30 hodin těšit v Kinokavárně U babičky Hanky na další koncert. Tentokrát se představí Víťův brácha.\nVáclav Otáhal se hudbě věnuje bezmála 20 let\, během nichž se podílel na řadě hudebních i hudebně-dramatických projektů. Hraje na několik hudebních nástrojů a ovládá nejrůznější hudební styly.\nSvé bohaté zkušenosti nyní zúročuje v tomto hudebním projektu\, prostřednictvím něhož se snaží bavit lidi na nejrůznějších společenských akcích a spoluutvářet okamžiky\, na které budou rádi vzpomínat.\nRepertoár tvoří převzaté skladby českých i zahraničních interpretů\, a to od 50. let 20. století až po současnost. Veškerý hudební doprovod nahrává v profesionálním nahrávacím studiu na skutečné hudební nástroje\, čímž je zaručena autenticita a živost vystoupení.\nVstupné 120\,- Kč\, studenti a senioři 80\,- Kč.
LOCATION:Hustopeče
END:VEVENT
END:VCALENDAR