BEGIN:VCALENDAR
VERSION:2.0
CALSCALE:GREGORIAN
PRODID:-//MyApp//Calendar 1.0//EN
BEGIN:VEVENT
METHOD:PUBLISH
UID:33666@regionalniportaly.cz
DTSTAMP:20260422T003824Z
DTSTART;VALUE=DATE:20231013
DTEND;VALUE=DATE:20231014
SUMMARY:Talk show Zuzany Bubílkové a Miroslava Šimůnka s Milanem Pitkinem
DESCRIPTION: Zveme Vás do Přibic na Talk show Zuzany Bubílkové a Miroslava Šimůnka se speciálním hostem Milanem Pitkinem. Připravte se na vyprávění ze soukromého i profesního života protagonistů\, glosy na aktuální témata současného dění a mnoho dalšího. Začátek 19.00 hodin v komunitním centru Přibice. Vstupenky na www.goout.net. Více na www.pribice.cz 
LOCATION:Přibice
END:VEVENT
END:VCALENDAR