BEGIN:VCALENDAR
VERSION:2.0
CALSCALE:GREGORIAN
PRODID:-//MyApp//Calendar 1.0//EN
BEGIN:VEVENT
METHOD:PUBLISH
UID:33381@regionalniportaly.cz
DTSTAMP:20260422T022804Z
DTSTART;VALUE=DATE:20231005
DTEND;VALUE=DATE:20231007
SUMMARY:Burčákové slavnosti
DESCRIPTION:Recesistická akce připomínající vinařskou historii města\, spousta zábavy\, soutěže\, ochutnávka burčáků v čele s purkmistrem a konšely města či jarmark. Třídenní oslavy sladkého bouřlivého moku provází nezaměnitelná dávka humoru. To vše a mnoho dalšího přinese již 28. ročník oblíbených Burčákových slavností!\nA co vás čeká?\nČtvrteční program odstartují v 16.00 místní školky\, školy a spolky. V 19.00 zakončí program koncert. \nV pátek v 18.00 zazní uvítací fanfáry z radnice a od této chvíle bude téct burčák ve všech mázhausech proudem! 18.30 na pódiu vystoupí Tomáš Kočko &amp\; Orchestr. Ve 20.00 předvede ohnivou show Magie ohně\, 20.30 zahraje INEKAFE a 22.30 den zakončí Větry z Jihu.\nV nádvoří domu U Synků si můžete poslechnout také Mužácký sbor z Němčiček a Midnigh Coffee Session. \nSobota započne od 9.00 středověkým jarmarkem. Následovat bude v 11.00 zasedání burčákové unie a ve 13.45 se městem projde historický průvod.\nV 16.30 zahrají Hazafele\, 18.30 zazpívá Marie Rottrová a ve 21.00 zakončí sobotní program na hlavním pódiu Xindl X.\nPro děti bude jako obvykle připravena dětská scéna Šapitó.\nV nádvoří domu U Synků můžete ochutnat vína regionálních vinařů a poslechnout si Hazafele\, historickou hudbu\, harmonikáře Pavla Vintrlíka či Quanti Minoris. Na ulici Na Hradbách proběhne klasicky soutěž ve válení beček a otevřeno bude mít i nově zrekonstruovaná budova Střelnice.  \nO noční zábavu se v ulicích Mrštíkova a Smetanova postarají harmonikáři.\nV rámci Burčákových slavností se můžete těšit i na Národní soutěž vín Velkopavlovické podoblasti. Všechna přihlášená vína budou připravena k ochutnání v sobotu 7.10.2023 od 12.00 v hotelu Amande.\nVraťte se do dob středověku! Nenechte si ujít nezapomenutelný zážitek s rodinnou atmosférou.\nPředprodej vstupenek bude zahájen 1.6. pouze v TIC Hustopeče. Od 1.7. bude možné je zakoupit i online.
LOCATION:Hustopeče
END:VEVENT
END:VCALENDAR