BEGIN:VCALENDAR
VERSION:2.0
CALSCALE:GREGORIAN
PRODID:-//MyApp//Calendar 1.0//EN
BEGIN:VEVENT
METHOD:PUBLISH
UID:33220@regionalniportaly.cz
DTSTAMP:20260422T000528Z
DTSTART;VALUE=DATE:20230615
DTEND;VALUE=DATE:20230616
SUMMARY:LiStOVáNí: Švejk 2023
DESCRIPTION:Švejk reflektuje naši společnost\, stejně tak aktualizovaná verze Listování\, která glosuje současné společenské a politické dění. Těšte se na to\, jak se Švejkovy legendární promluvy potkají se současným Českem\, však málokteré literární dílo je tak aktuální jako právě Švejk.\nLiStOVáNí s tímto nadčasovým tématem vyráží znovu na cesty. A nudit vás tohle léto rozhodně nebude!\nÚčinkují: Alan Novotný a Jiří Ressler\nAkce se uskuteční v 17 hodin v Kinokavárně.
LOCATION:Hustopeče
END:VEVENT
END:VCALENDAR