BEGIN:VCALENDAR
VERSION:2.0
CALSCALE:GREGORIAN
PRODID:-//MyApp//Calendar 1.0//EN
BEGIN:VEVENT
METHOD:PUBLISH
UID:33158@regionalniportaly.cz
DTSTAMP:20260422T000558Z
DTSTART;VALUE=DATE:20230609
DTEND;VALUE=DATE:20230610
SUMMARY:Nemalý pátek - Perfect Time
DESCRIPTION:V pátek 9. června jste srdečně zváni na další hudební pátek do Kinokavárny v Hustopečích. \nTentokrát se můžete těšit na pětičlenné hudební uskupení z Brna hrající progresivní vintage jazz.
LOCATION:Hustopeče
END:VEVENT
END:VCALENDAR