BEGIN:VCALENDAR
VERSION:2.0
CALSCALE:GREGORIAN
PRODID:-//MyApp//Calendar 1.0//EN
BEGIN:VEVENT
METHOD:PUBLISH
UID:33157@regionalniportaly.cz
DTSTAMP:20260422T000518Z
DTSTART;VALUE=DATE:20230604
DTEND;VALUE=DATE:20230606
SUMMARY:Šťovík\, pečené brambory
DESCRIPTION:Hustopečský divadelní soubor Foor zve na trpkou komedie o dvou dějstvích a dvou poločasech\, nejen o fotbale. Tři rozdílní fotbaloví rozhodčí se spolčují i vzájemně soupeří v kabině před\, během a po jednom rozhodujícím utkání podzimního kola extraligy.\n \nNeděle 4.6. v 17.00 h - premiéra\nÚterý 6.6. v 19.00 h\n \nObě divadelní představení se odehrají ve Společenském domě na ulici Herbenova.\n 
LOCATION:Hustopeče
END:VEVENT
END:VCALENDAR