BEGIN:VCALENDAR
VERSION:2.0
CALSCALE:GREGORIAN
PRODID:-//MyApp//Calendar 1.0//EN
BEGIN:VEVENT
METHOD:PUBLISH
UID:32866@regionalniportaly.cz
DTSTAMP:20260422T000747Z
DTSTART;VALUE=DATE:20230613
DTEND;VALUE=DATE:20230614
SUMMARY:Babské rady
DESCRIPTION:Talk show s moderátory Českého rozhlasu s Jarkou Vykoupilovou a Jiřím Kokmotosem.\nHudební doprovod Hana Pregrtová a Vojtěch Svatoš.\nVstupné 150\,- Kč\, studenti a důchodci 100\,- Kč.
LOCATION:Hustopeče
END:VEVENT
END:VCALENDAR