BEGIN:VCALENDAR
VERSION:2.0
CALSCALE:GREGORIAN
PRODID:-//MyApp//Calendar 1.0//EN
BEGIN:VEVENT
METHOD:PUBLISH
UID:32759@regionalniportaly.cz
DTSTAMP:20260422T004217Z
DTSTART;VALUE=DATE:20230617
DTEND;VALUE=DATE:20230618
SUMMARY:Letní dětský festival aneb z pohádky do pohádky
DESCRIPTION:Město Židlochovice a Diskoproděti\,zvou všechny rodiče s dětmi na třetí ročník dětského letního festivalu\, který se uskuteční v sobotu 17. června v areálu letního koupaliště města Židlochovice.Děti se můžou těšit na bohatý program plný zábavy\, soutěží\, dovádění a hlavně na 15 oblíbených pohádkových kamarádů\, které je budou v průběhu celého odpoledne bavit.Dorazí sněhulák Oláfek\, Lev Alex\, Chase a Marshall z Tlapkové patroly\, král Jelimán\, žabák Crazy Frog a další kamarádi&nbsp\;Dále se děti můžou těšit skákací hrad\, nafukovací lezeckou plechovku\, trampolínu\, malování na obličej\, výrobníky sněhu\, mini ZOO\, dětské hřiště\, pirátskou průlezkovou loď\, pohádkový hrad\, dráhu se čtyřkolkami a dokonce i na velkou pěnovou show.Trampolína\, skákací hrad a malování na obličej budou po celou dobu akce zcela zdarma.Před zahájením hlavního programu budete moci navštívit s dětmi naše pohádkové stanoviště s postavičkami\, které budou rozmístěné v areálu koupaliště -&nbsp\;Ledové království\, Aladin\, Piráti z karibiku&nbsp\;a další...K dispozici bude dostatek prostoru pro Váš odpočinek na našich velkých travnatých plážích se slunečníky a pro malé děti i brouzdaliště … takže deky s sebou.Těšit se můžete i na obchůdek s upomínkovými předměty.Občerstvení zajištěno.Cena vstupenek v předprodeji do 16.6. - 120 Kč/osobaCena vstupného na místě v den akce - 150 Kč/osobaDěti do 1 roku zdarmaZačátek hlavního programu s postavičkami u bazénů ve 14:00 hodin.Otevření areálu koupaliště s předprogramem již ve 12:00 hodin&nbsp\;(možná i dříve v návaznosti na otevření koupaliště).Akci pořádá koupaliště města&nbsp\;Židlochovice a agentura Diskoprodeti.cz
LOCATION:Vojkovice
END:VEVENT
END:VCALENDAR