BEGIN:VCALENDAR
VERSION:2.0
CALSCALE:GREGORIAN
PRODID:-//MyApp//Calendar 1.0//EN
BEGIN:VEVENT
METHOD:PUBLISH
UID:32703@regionalniportaly.cz
DTSTAMP:20260422T000701Z
DTSTART;VALUE=DATE:20230528
DTEND;VALUE=DATE:20230529
SUMMARY:Popelka a Zloun
DESCRIPTION:Zveme vás na pořad Evy Hruškové a Jana Přeučila – Popelka a Zloun.V pořadu zazní písničky nejen z legendární černobílé filmové pohádky. Jana Přeučila určitě poznáme i jako milého a přívětivého člověka s jemným smyslem pro humor a poezii. Člověka co má rád lidi a svět vůbec. Jan Přeučil v pořadu zavzpomíná na svého tatínka Františka Přeučila. Vzpomeneme si i na Štěpánku Haničincovou a další slavné kolegy.Zapojit se i můžete i vy diváci při soutěži a pokládání otázek.
LOCATION:Vranovice
END:VEVENT
END:VCALENDAR