BEGIN:VCALENDAR
VERSION:2.0
CALSCALE:GREGORIAN
PRODID:-//MyApp//Calendar 1.0//EN
BEGIN:VEVENT
METHOD:PUBLISH
UID:32630@regionalniportaly.cz
DTSTAMP:20260421T225225Z
DTSTART;VALUE=DATE:20230509
DTEND;VALUE=DATE:20230510
SUMMARY:Listování v Obecní knihovně Vranovice
DESCRIPTION:Přijměte pozvánku na první listování v naší knihovně. Počet míst je omezen\, proto prosíme o rezervaci.\nPředstavíme knihu Historky z Tinderu\nPříběhy o lásce\, sexu a dalších katastrofách. Z nejhorších rande jsou ty nejlepší historky – protože neštěstí nechodí po horách\, ale po single holkách! Populární stand-up komička Lucie Macháčková s humorem a nadsázkou glosuje milostné karamboly a ty jsou pochopitelně živnou půdou pro projekt LiStOVáNí. Představení stejně jako kniha plné příběhů o lásce\, randění i pořádných trapasech vás dostanou – ať už jste single\, zadaní\, a nebo něco mezi. Dozvíte se například\, co se stane\, když se zabouchnete na divokém večírku\, co dělat\, když při šnorchlování v moři omylem narazíte na svého ex nebo jak nejlépe rozchodit rozchod.\n– účinkuje: autorka knihy Lucie Macháčková a Lukáš Hejlík.
LOCATION:Vranovice
END:VEVENT
END:VCALENDAR