BEGIN:VCALENDAR
VERSION:2.0
CALSCALE:GREGORIAN
PRODID:-//MyApp//Calendar 1.0//EN
BEGIN:VEVENT
METHOD:PUBLISH
UID:32550@regionalniportaly.cz
DTSTAMP:20260421T223554Z
DTSTART;VALUE=DATE:20230512
DTEND;VALUE=DATE:20230513
SUMMARY:Nemalý pátek v kinokavárně - Paolli a Zbyněk
DESCRIPTION:Další hudební večer v Kinokavárně U babičky Hanky.\nVstupné 100\,- Kč (studenti a senioři 50\,- Kč).
LOCATION:Hustopeče
END:VEVENT
END:VCALENDAR