BEGIN:VCALENDAR
VERSION:2.0
CALSCALE:GREGORIAN
PRODID:-//MyApp//Calendar 1.0//EN
BEGIN:VEVENT
METHOD:PUBLISH
UID:32317@regionalniportaly.cz
DTSTAMP:20260421T223622Z
DTSTART;VALUE=DATE:20230512
DTEND;VALUE=DATE:20230513
SUMMARY:KALI A PETER PANN
DESCRIPTION:Slovenský raper Kali a Peter Pann vystoupí se svoji strhující show v Retro Clubu v Zaječí\, přijď si je užít s námi!&nbsp\;Sexy hostessZa mixem Dj STYX
LOCATION:Zaječí
END:VEVENT
END:VCALENDAR