BEGIN:VCALENDAR
VERSION:2.0
CALSCALE:GREGORIAN
PRODID:-//MyApp//Calendar 1.0//EN
BEGIN:VEVENT
METHOD:PUBLISH
UID:32214@regionalniportaly.cz
DTSTAMP:20260422T003017Z
DTSTART;VALUE=DATE:20230603
DTEND;VALUE=DATE:20230604
SUMMARY:FERBY FEST 2023
DESCRIPTION:16. ročník rockového&nbsp\;festivalu FERBY FEST se uskuteční v sobotu 3. června a opět nabídne přehlídku kvalitní rockové a metalové muziky!13:00 otevření areálu14:30 Mylions16:00 Ota Balage Band17:30&nbsp\;DONOR19:00 Premier20:30 DE BILL HEADS22:00 Morčata na útěku
LOCATION:Velké Bílovice
END:VEVENT
END:VCALENDAR