BEGIN:VCALENDAR
VERSION:2.0
CALSCALE:GREGORIAN
PRODID:-//MyApp//Calendar 1.0//EN
BEGIN:VEVENT
METHOD:PUBLISH
UID:32174@regionalniportaly.cz
DTSTAMP:20260421T224927Z
DTSTART;VALUE=DATE:20230421
DTEND;VALUE=DATE:20230422
SUMMARY:BEST OF THE 90'S SHOW
DESCRIPTION:Best of 90s show s Joe Thompson (Down Low)\, Natasha Wright (ex La Bouche) a Ray Horton (original voice of Milli Vanilli)\, to si prostě nesmíte nechat ujít! Jedinečná show plná velkých hitů devadesátých let...
LOCATION:Zaječí
END:VEVENT
END:VCALENDAR