BEGIN:VCALENDAR
VERSION:2.0
CALSCALE:GREGORIAN
PRODID:-//MyApp//Calendar 1.0//EN
BEGIN:VEVENT
METHOD:PUBLISH
UID:32098@regionalniportaly.cz
DTSTAMP:20260422T002718Z
DTSTART;VALUE=DATE:20230525
DTEND;VALUE=DATE:20230528
SUMMARY:Euro Bike Fest 2023
DESCRIPTION:15. ročník největšího československého motofestivalu pro motorkáře i nemotorkáře z&nbsp\;celého světa!
LOCATION:Pasohlávky
END:VEVENT
END:VCALENDAR